BEGIN:VCALENDAR
VERSION:2.0
PRODID:-//Common Chord - ECPv6.15.20//NONSGML v1.0//EN
CALSCALE:GREGORIAN
METHOD:PUBLISH
X-WR-CALNAME:Common Chord
X-ORIGINAL-URL:https://www.commonchordqc.org
X-WR-CALDESC:Events for Common Chord
REFRESH-INTERVAL;VALUE=DURATION:PT1H
X-Robots-Tag:noindex
X-PUBLISHED-TTL:PT1H
BEGIN:VTIMEZONE
TZID:America/Chicago
BEGIN:DAYLIGHT
TZOFFSETFROM:-0600
TZOFFSETTO:-0500
TZNAME:CDT
DTSTART:20230312T080000
END:DAYLIGHT
BEGIN:STANDARD
TZOFFSETFROM:-0500
TZOFFSETTO:-0600
TZNAME:CST
DTSTART:20231105T070000
END:STANDARD
BEGIN:DAYLIGHT
TZOFFSETFROM:-0600
TZOFFSETTO:-0500
TZNAME:CDT
DTSTART:20240310T080000
END:DAYLIGHT
BEGIN:STANDARD
TZOFFSETFROM:-0500
TZOFFSETTO:-0600
TZNAME:CST
DTSTART:20241103T070000
END:STANDARD
BEGIN:DAYLIGHT
TZOFFSETFROM:-0600
TZOFFSETTO:-0500
TZNAME:CDT
DTSTART:20250309T080000
END:DAYLIGHT
BEGIN:STANDARD
TZOFFSETFROM:-0500
TZOFFSETTO:-0600
TZNAME:CST
DTSTART:20251102T070000
END:STANDARD
END:VTIMEZONE
BEGIN:VEVENT
DTSTART;TZID=America/Chicago:20240503T170000
DTEND;TZID=America/Chicago:20240503T235900
DTSTAMP:20260424T115037
CREATED:20240223T152502Z
LAST-MODIFIED:20240223T165048Z
UID:272841-1714755600-1714780740@www.commonchordqc.org
SUMMARY:In Loving Memory Feat. Widowdusk & More In The Redstone Room At Common Chord | Davenport\, IA
DESCRIPTION:Genre: Screamo\, Post-Punk\, Emo\, Hardcore  \nRecommended If You Like: Saetia\, The Locust\, Orchid \nDoors: 5:00pm | Show: 6:00pm \nTickets: $20 \nHeadliner: In Loving Memory and co headliner Widowdusk \nSupporting Guest: OLTH\, Herlovebeheaddaises\, Bootcamp and Camp Regret \nSeating: General admission. No guaranteed seating. Table reservations available. \nAge Restriction: All Ages.21+ ID Required. \nSee below for admission & common chord policy. \n\n			\n			\n				\n				\n				\n				\n			\n				\n				\n				\n				\n				\n				\n				\n				\n				\n				\n				\n				\n			\n			\n				\n				\n				\n				\n			\n				\n				\n				\n				\n				\n				\n				\n				\n				\n				\n				COMMON CHORD POLICIES:*Tickets*Advance tickets are only available online. Tickets may be purchased at the door the day of the show\, subject to availability. Tickets are non-transferable and may only be purchased directly from Common Chord. \n*Reserved Seating*All tickets to Club Shows are General Admission\, with no guaranteed seating except for reserved tables. For most shows\, the Redstone Room features tables and chairs throughout the room. \nFor guaranteed seating\, a limited number of tables are available to be reserved. These may only be purchased in advance\, and are sold separately from tickets. You will need to add your General Admission tickets AND your Reserved Tables to the cart for purchase. Tables seat up to four people. \nPhysical Accommodations: If you require seating or a reserved space due to health or physical needs\, you will need to purchase your General Admission ticket first and then email feedback@commonchordqc.org to reserve up to 2 seats. \n*Age Restrictions*Most shows in the Redstone Room are All Ages unless otherwise noted. Those under 19 years old must be accompanied by a parent or guardian. \n*Further Questions?*Please email feedback@commonchordqc.org
URL:https://www.commonchordqc.org/event/in-loving-memory-feat-widowdusk-more-in-the-redstone-room-at-common-chord-davenport-ia/
LOCATION:Common Chord | Home of the Redstone Room\, 129 Main Street\, Davenport\, IA\, 52801\, United States
ATTACH;FMTTYPE=image/jpeg:https://www.commonchordqc.org/wp-content/uploads/2024/02/QC-ILM-RED-BLUE-version-FB-event-size-RGB-scaled.jpg
ORGANIZER;CN="Common Chord":MAILTO:feedback@commonchordqc.org
END:VEVENT
END:VCALENDAR