BEGIN:VCALENDAR
VERSION:2.0
PRODID:-//Common Chord - ECPv6.15.20//NONSGML v1.0//EN
CALSCALE:GREGORIAN
METHOD:PUBLISH
X-ORIGINAL-URL:https://www.commonchordqc.org
X-WR-CALDESC:Events for Common Chord
REFRESH-INTERVAL;VALUE=DURATION:PT1H
X-Robots-Tag:noindex
X-PUBLISHED-TTL:PT1H
BEGIN:VTIMEZONE
TZID:America/Chicago
BEGIN:DAYLIGHT
TZOFFSETFROM:-0600
TZOFFSETTO:-0500
TZNAME:CDT
DTSTART:20230312T080000
END:DAYLIGHT
BEGIN:STANDARD
TZOFFSETFROM:-0500
TZOFFSETTO:-0600
TZNAME:CST
DTSTART:20231105T070000
END:STANDARD
BEGIN:DAYLIGHT
TZOFFSETFROM:-0600
TZOFFSETTO:-0500
TZNAME:CDT
DTSTART:20240310T080000
END:DAYLIGHT
BEGIN:STANDARD
TZOFFSETFROM:-0500
TZOFFSETTO:-0600
TZNAME:CST
DTSTART:20241103T070000
END:STANDARD
BEGIN:DAYLIGHT
TZOFFSETFROM:-0600
TZOFFSETTO:-0500
TZNAME:CDT
DTSTART:20250309T080000
END:DAYLIGHT
BEGIN:STANDARD
TZOFFSETFROM:-0500
TZOFFSETTO:-0600
TZNAME:CST
DTSTART:20251102T070000
END:STANDARD
END:VTIMEZONE
BEGIN:VEVENT
DTSTART;TZID=America/Chicago:20240504T190000
DTEND;TZID=America/Chicago:20240504T230000
DTSTAMP:20260424T131611
CREATED:20240118T220808Z
LAST-MODIFIED:20240504T140757Z
UID:270351-1714849200-1714863600@www.commonchordqc.org
SUMMARY:Battle of the Bosses - Fundraising for music education.
DESCRIPTION:Common Chord officially kicks off its yearlong celebration of our 20th Year Anniversary in 2024! Get ready for an epic showdown at “Battle of The Bosses” concert event! Join us for a one-of-a-kind concert experience as we bring together business and community leaders from the Quad Cities for an evening of rock star performances to support a music education programs. \nDate: Saturday\, May 4thVenue: The Redstone Room at Common ChordAddress: 129 N Main Street\, Downtown Davenport \n6:30pm: Doors Open & Dessert Reception7:00pm: Event Starts9:00pm: Inaugural Amplify Society Induction Ceremony & Golden Microphone Award \nSpace is limited\, so grab your tickets now ($40 per person) before they’re gone and get ready to witness the Quad Cities’ business leaders unleash their inner rockstars!\n– – – – – – – – – – \n\nSpecial thanks to our performers for sharing their time and talents!John Deere: The All-Star Deere Band (Jason Brantley\, Susan Parker\, Andrew Brock\, and Ross Carlson)Rouse Consulting Group: Geoff ManisParker Davenport: James PalagiRuhl & Ruhl: Rock ‘n Ruhl (Chris Beason\, Sally Atwell\, Matt Schwind)Russell Construction: The Russel Resonators (Jim Russell\, Sam Russell\, Mike Doucette)KWQC-TV6: Sue Ramsett \n			\n			\n				\n				\n				\n				\n			\n				\n				\n				\n				\n				\n				\n				\n				\n				\n				\n				\n\n*ABOUT BATTLE OF THE BOSSES *Watch as influential bosses trade their spreadsheets for microphones and take the stage with Common Chord’s (Staff) House Band. You’ll witness the hidden musical talents in action of these leaders as they belt out crowd-pleasing tunes and jam to the beat.\nBut it’s not just about the music – it’s about making a difference\, too! All proceeds raised from this fundraising event will directly benefit the youth of the Quad Cities through providing music education\, music enrichment\, and access to instruments. So while you’re rocking out\, you’re also supporting a great cause!\nExpect surprises\, collaborations\, and a whole lot of fun as these bosses battle it out for the title of the ultimate rock star CEO Award and seek the coveted Golden Microphone.\nShould you have any questions or want to get more involved with this special event or any Common Chord program or initiative\, please contact Steve Ahrens\, Director of Strategic Initiatives\, at 563/326-1333 ext 110 or sahrens@commonchordqc.org
URL:https://www.commonchordqc.org/event/battle-of-the-bosses-fundraising-for-music-education/
LOCATION:Common Chord | Home of the Redstone Room\, 129 Main Street\, Davenport\, IA\, 52801\, United States
ATTACH;FMTTYPE=image/png:https://www.commonchordqc.org/wp-content/uploads/2024/01/Eventbrite-Facebook-Header.png
ORGANIZER;CN="Common Chord":MAILTO:feedback@commonchordqc.org
END:VEVENT
END:VCALENDAR