BEGIN:VCALENDAR
VERSION:2.0
PRODID:-//Common Chord - ECPv6.15.20//NONSGML v1.0//EN
CALSCALE:GREGORIAN
METHOD:PUBLISH
X-WR-CALNAME:Common Chord
X-ORIGINAL-URL:https://www.commonchordqc.org
X-WR-CALDESC:Events for Common Chord
REFRESH-INTERVAL;VALUE=DURATION:PT1H
X-Robots-Tag:noindex
X-PUBLISHED-TTL:PT1H
BEGIN:VTIMEZONE
TZID:America/Chicago
BEGIN:DAYLIGHT
TZOFFSETFROM:-0600
TZOFFSETTO:-0500
TZNAME:CDT
DTSTART:20250309T080000
END:DAYLIGHT
BEGIN:STANDARD
TZOFFSETFROM:-0500
TZOFFSETTO:-0600
TZNAME:CST
DTSTART:20251102T070000
END:STANDARD
BEGIN:DAYLIGHT
TZOFFSETFROM:-0600
TZOFFSETTO:-0500
TZNAME:CDT
DTSTART:20260308T080000
END:DAYLIGHT
BEGIN:STANDARD
TZOFFSETFROM:-0500
TZOFFSETTO:-0600
TZNAME:CST
DTSTART:20261101T070000
END:STANDARD
BEGIN:DAYLIGHT
TZOFFSETFROM:-0600
TZOFFSETTO:-0500
TZNAME:CDT
DTSTART:20270314T080000
END:DAYLIGHT
BEGIN:STANDARD
TZOFFSETFROM:-0500
TZOFFSETTO:-0600
TZNAME:CST
DTSTART:20271107T070000
END:STANDARD
END:VTIMEZONE
BEGIN:VEVENT
DTSTART;TZID=America/Chicago:20260419T170000
DTEND;TZID=America/Chicago:20260419T190000
DTSTAMP:20260423T053118
CREATED:20260312T194202Z
LAST-MODIFIED:20260316T132936Z
UID:321874-1776618000-1776625200@www.commonchordqc.org
SUMMARY:Polyrhythms Third Sunday Jazz with Pippi and Daniel Music
DESCRIPTION:**This show has been postponed to April 19th due to weather.** \n \nGenre: Jazz \nAll Ages Workshop: 3:00pmDoors: 4:00pm / Show: 5:00pm \nGeneral Admission: $20 in advance or at the doorReserved Seating: $30 in advance or at the doorPresales end when doors open. Tickets available at the door pending availability. \nSeating: All-seated show. All attendees are guaranteed a seat. Reserved seating available.Age Restriction: All Ages (Under 19 must be accompanied by an adult) \n\n			\n				\n				\n				\n				\n				\nABOUT THE ARTIST \nPippi Ardennia and Daniel Leahy \nRecognized as one of the most versatile and compelling vocalists of hergeneration\, Pippi Ardennia is a singer\, composer\, producer\, recording artist\, andstage actress whose commanding presence and storytelling artistry captivateaudiences everywhere. Known for her “big\, soulful voice\,” Pippi’s style has beendescribed as soulful\, seductive\, bluesy\, funky\, swinging\, and sensual—all flowingthrough one singular voice that makes every lyric feel personal. She hasperformed across the country\, from Chicago clubs to concerts in New York\,California\, and beyond\, and has collaborated with legendary artists includingHerb Alpert\, Freddie Hubbard\, George Freeman\, Von Freeman\, BobbyBroom\, and Grammy Award-winning producer André Fischer. \nDaniel Leahy\, pianist\, vocalist\, recording artist\, composer\, arranger\, and musicaldirector\, brings remarkable versatility and brilliance to every performance. Hiswork spans multi-media platforms including film\, television\, radio\, andinternational summit events. Daniel has performed with iconic jazz greatsincluding Louie Bellson\, Clark “Mumbles” Terry\, Hampton Hawes\, andJames Morrison\, and has studied with acclaimed pianists Benny Green andTamir Hendelman. His sound is uniquely refined—combining crisp clarity withlush harmonies and deep soulful influence\, offering echoes of George Shearingand Burt Bacharach\, while channeling the spirit of Ramsey Lewis\, OscarPeterson\, George Duke\, Joe Sample\, and Herbie Hancock. \nTogether\, Pippi and Daniel create an uplifting\, high-energy musical journey filledwith unforgettable original songs\, beloved standards\, and performances thatleave audiences moved body and soul.  \n\nFrom intimate duo sets to their full ten-piece band productions\, they bring a level of excellence andemotional connection that turns every event into an experience. \nDescribing Pippi and Daniel Music\, Polyrhythms creator Nathaniel Lawrence said\, “Audiences are secure when Pippi and Daniel bring their love to the stage—whether through their original compositions or their deeply insightful interpretations of jazz standards. Pippi Ardennia & Daniel Leahy don’t just perform music — they create a movement!” \n  \n\n			\n			\n				\n				\n				\n				\n			\n				\n				\n				\n				\n				\n				\n			\n				\n				\n				\n				\n			\n				\n				\n				\n				\n				\n				\n			\n				\n				\n				\n				\n			\n				\n				\n				\n				\n				\n				\n				\n				\n				\n				\n				COMMON CHORD POLICIES: \nTICKETS: Advance tickets are only available online. Tickets may be purchased at the door the day of the show\, subject to availability. Tickets are non-transferable and may only be purchased directly from Common Chord. \nRESERVED SEATING: General Admission\, with no guaranteed seating except for reserved tables. For most shows\, the Redstone Room features tables and chairs throughout the room. For guaranteed seating\, a limited number of tables are available to be reserved. These may only be purchased in advance and are sold separately from tickets. You will need to add your General Admission tickets AND your Reserved Tables to the cart for purchase. Tables seat up to four people. \nPHYSICAL ACCOMMODATIONS: If you require seating or a reserved space due to health or physical needs\, you will need to purchase your General Admission ticket first and then email feedback@commonchordqc.org to reserve up to 2 seats. \nAGE RESTRICTIONS: Most shows in the Redstone Room are all ages unless otherwise noted. Those under 19 years old must be accompanied by a parent or guardian. \nQUESTIONS?: Please email: feedback@commonchordqc.org
URL:https://www.commonchordqc.org/event/polyrhythms-third-sunday-jazz-with-pippi-and-daniel-music/
LOCATION:Redstone Room at Common Chord\, 129 Main St\, Davenport\, IA\, 52801\, United States
ATTACH;FMTTYPE=image/jpeg:https://www.commonchordqc.org/wp-content/uploads/2026/03/Screenshot-2026-03-12-at-14-23-06-Third-Sunday-Jazz-—-POLYRHYTHMS-Jazz-Heritage.jpg
END:VEVENT
END:VCALENDAR